BEGIN:VCALENDAR
VERSION:2.0
PRODID:-//El Arc - ECPv6.15.20//NONSGML v1.0//EN
CALSCALE:GREGORIAN
METHOD:PUBLISH
X-ORIGINAL-URL:https://elarcdecalifornia.org
X-WR-CALDESC:Eventos para El Arc
REFRESH-INTERVAL;VALUE=DURATION:PT1H
X-Robots-Tag:noindex
X-PUBLISHED-TTL:PT1H
BEGIN:VTIMEZONE
TZID:America/Los_Angeles
BEGIN:DAYLIGHT
TZOFFSETFROM:-0800
TZOFFSETTO:-0700
TZNAME:PDT
DTSTART:20220313T100000
END:DAYLIGHT
BEGIN:STANDARD
TZOFFSETFROM:-0700
TZOFFSETTO:-0800
TZNAME:PST
DTSTART:20221106T090000
END:STANDARD
BEGIN:DAYLIGHT
TZOFFSETFROM:-0800
TZOFFSETTO:-0700
TZNAME:PDT
DTSTART:20230312T100000
END:DAYLIGHT
BEGIN:STANDARD
TZOFFSETFROM:-0700
TZOFFSETTO:-0800
TZNAME:PST
DTSTART:20231105T090000
END:STANDARD
BEGIN:DAYLIGHT
TZOFFSETFROM:-0800
TZOFFSETTO:-0700
TZNAME:PDT
DTSTART:20240310T100000
END:DAYLIGHT
BEGIN:STANDARD
TZOFFSETFROM:-0700
TZOFFSETTO:-0800
TZNAME:PST
DTSTART:20241103T090000
END:STANDARD
END:VTIMEZONE
BEGIN:VEVENT
DTSTART;TZID=America/Los_Angeles:20231024T040000
DTEND;TZID=America/Los_Angeles:20231024T180000
DTSTAMP:20260419T193849
CREATED:20231023T225112Z
LAST-MODIFIED:20231023T225112Z
UID:10001069-1698120000-1698170400@elarcdecalifornia.org
SUMMARY:Tomar Decisiones con Apoyo en entornos educacionales
DESCRIPTION:El Programa de asistencia técnica para la toma de decisiones con apoyo (SDM-TAP) está organizando conversaciones comunitarias para aprender cómo apoyar la implementación de SDM en todo el estado. Puede registrarse para una o más de nuestras conversaciones comunitarias. Cada fecha tendrá un área de enfoque específica\, pero si no puede asistir al área de enfoque que más le interesa\, regístrese para otra fecha y comparta su opinión con nosotros cuando pueda participar. Estas son las áreas de enfoque para cada reunión: \nHorarios de Conversaciones \nMartes\, octubre 24\, de 4-6 pm\nTomar Decisiones con Apoyo en entorno de servicios para la discapacidad intelectual y de desarrollo \nMiércoles\, octubre 25\, de 4-6 pm\nTomar Decisiones con Apoyo en entornos Legales o Judiciales \nJueves\, octubre 26\, de 4-6 pm\nTomar Decisiones con Apoyo en entornos médicos o de salud \nViernes\, octubre 27\, de 4-6 pm\nTomar Decisiones con Apoyo en entornos financieros.
URL:https://elarcdecalifornia.org/evento/tomar-decisiones-con-apoyo-en-entornos-educacionales/2023-10-24/
CATEGORIES:Entrenamientos por zoom
ATTACH;FMTTYPE=image/jpeg:https://elarcdecalifornia.org/wp-content/uploads/2023/10/Unknown.jpeg
END:VEVENT
BEGIN:VEVENT
DTSTART;TZID=America/Los_Angeles:20231024T100000
DTEND;TZID=America/Los_Angeles:20231024T113000
DTSTAMP:20260419T193849
CREATED:20231004T223835Z
LAST-MODIFIED:20231004T223835Z
UID:10000944-1698141600-1698147000@elarcdecalifornia.org
SUMMARY:Entendiendo los numeros de las evaluaciones psicoeducativas
DESCRIPTION:Learning Rights y North Los Angeles County Regional Center presentan \nEntendiendo los números de las evaluaciones psicoeducativas\, Acompáñenos por Zoom. \n\nId de la junta: 857 8712 5297 \nContraseña: 499047
URL:https://elarcdecalifornia.org/evento/entendiendo-los-numeros-de-las-evaluaciones-psicoeducativas/
CATEGORIES:Entrenamientos por zoom
ATTACH;FMTTYPE=image/png:https://elarcdecalifornia.org/wp-content/uploads/2023/10/485.png
END:VEVENT
BEGIN:VEVENT
DTSTART;TZID=America/Los_Angeles:20231024T100000
DTEND;TZID=America/Los_Angeles:20231024T120000
DTSTAMP:20260419T193849
CREATED:20231023T225338Z
LAST-MODIFIED:20231023T225511Z
UID:10001439-1698141600-1698148800@elarcdecalifornia.org
SUMMARY:Los Programas de Medi-Cal para Personas con Discapacidades
DESCRIPTION:Se hablará de los diferentes programas y lo que cubre el Medi-Cal para personas con discapacidades.
URL:https://elarcdecalifornia.org/evento/los-programas-de-medi-cal-para-personas-con-discapacidades/
CATEGORIES:Entrenamientos por zoom
ATTACH;FMTTYPE=image/png:https://elarcdecalifornia.org/wp-content/uploads/2023/10/Unknown.png
END:VEVENT
BEGIN:VEVENT
DTSTART;TZID=America/Los_Angeles:20231024T100000
DTEND;TZID=America/Los_Angeles:20231024T233000
DTSTAMP:20260419T193849
CREATED:20230920T162508Z
LAST-MODIFIED:20230920T162508Z
UID:10000935-1698141600-1698190200@elarcdecalifornia.org
SUMMARY:Diferentes maneras de pensar\, Diferentes maneras de aprender
DESCRIPTION:Clases para padres de niños con discapacidades \nEN COLABORACIÓN CON LEARNING RIGHTS LAW CENTER \nCADA CUARTO MARTES DEL MES DE 10:00 AM A 11:30 AM \nLAS CLASES SE PRESENTARÁN EN ESPAÑOL CON INTERPRETACIÓN AL INGLÉS \nPRESENTADO POR MARIANA LEÑERO SOLAR \nhttps://us06web.zoom.us/j/85787125297 \nTeléfono: 669-900-6833 \nID de la reunión: 857 8712 5297 \nContraseña: 499047
URL:https://elarcdecalifornia.org/evento/diferentes-maneras-de-pensar-diferentes-maneras-de-aprender/2023-10-24/
CATEGORIES:Entrenamientos por zoom
ATTACH;FMTTYPE=image/jpeg:https://elarcdecalifornia.org/wp-content/uploads/2023/09/Unknown-1.jpeg
END:VEVENT
BEGIN:VEVENT
DTSTART;TZID=America/Los_Angeles:20231024T173000
DTEND;TZID=America/Los_Angeles:20231024T190000
DTSTAMP:20260419T193849
CREATED:20231004T224210Z
LAST-MODIFIED:20231004T224210Z
UID:10000945-1698168600-1698174000@elarcdecalifornia.org
SUMMARY:Pregúntale a Mariana sobre educación especial
DESCRIPTION:Learning Rights y En la Inclusión Un Paso Mas presentan Pregúntale a Mariana sobre educación especial.  Acompáñenos por Zoom. \n\nId de la junta: 346 039 0284 \nContraseña: 481538
URL:https://elarcdecalifornia.org/evento/preguntale-a-mariana-sobre-educacion-especial/
CATEGORIES:Entrenamientos por zoom
ATTACH;FMTTYPE=image/png:https://elarcdecalifornia.org/wp-content/uploads/2023/10/485.png
END:VEVENT
BEGIN:VEVENT
DTSTART;TZID=America/Los_Angeles:20231024T183000
DTEND;TZID=America/Los_Angeles:20231024T203000
DTSTAMP:20260419T193849
CREATED:20231023T225729Z
LAST-MODIFIED:20231023T225729Z
UID:10001440-1698172200-1698179400@elarcdecalifornia.org
SUMMARY:Cómo solicitar servicios de apoyo en el hogar (IHSS)
DESCRIPTION:IHSS provee servicios de cuidado personal\, doméstico y supervisión preventiva a individuos con discapacidad en sus casas. \nLa elegibilidad para IHSS está disponible solo para las personas con Medi-Cal\, incluso a través de la Exención de Medicaid disponible en los Centros Regionales llamados Institucional Deeming. \nSu hijo puede estar viviendo en casa con usted o en su propia casa para ser elegible para este beneficio público. Incluso se le podría pagar a usted como proveedor de estos servicios. Si está considerando la opción de Supported Living\, este servicio debe ser aprovechado si es elegible antes de que se otorguen las horas de Supported Living.\n¡Unase a nuestro seminario web para aprender más sobre el IHSS y para que sepa cómo prepararse!\nVenga\, y aprenda que hacer para aumentar la posibilidad de obtener un resultado positivo. \nEvento patrocinado en parte por el Condado de Santa Clara. \nEl proyecto cuenta con el apoyo de los programas de beneficios comunitarios del norte de California de Kaiser Permanente. \nEste es un evento de Connections California. Connections California\, un proyecto de Parents Helping Parents – Silicon Valley. \n#CCA
URL:https://elarcdecalifornia.org/evento/como-solicitar-servicios-de-apoyo-en-el-hogar-ihss/
CATEGORIES:Entrenamientos por zoom
ATTACH;FMTTYPE=image/png:https://elarcdecalifornia.org/wp-content/uploads/2023/10/Unknown-1.png
END:VEVENT
END:VCALENDAR