BEGIN:VCALENDAR
VERSION:2.0
PRODID:-//El Arc - ECPv6.15.20//NONSGML v1.0//EN
CALSCALE:GREGORIAN
METHOD:PUBLISH
X-ORIGINAL-URL:https://elarcdecalifornia.org
X-WR-CALDESC:Eventos para El Arc
REFRESH-INTERVAL;VALUE=DURATION:PT1H
X-Robots-Tag:noindex
X-PUBLISHED-TTL:PT1H
BEGIN:VTIMEZONE
TZID:America/Los_Angeles
BEGIN:DAYLIGHT
TZOFFSETFROM:-0800
TZOFFSETTO:-0700
TZNAME:PDT
DTSTART:20220313T100000
END:DAYLIGHT
BEGIN:STANDARD
TZOFFSETFROM:-0700
TZOFFSETTO:-0800
TZNAME:PST
DTSTART:20221106T090000
END:STANDARD
BEGIN:DAYLIGHT
TZOFFSETFROM:-0800
TZOFFSETTO:-0700
TZNAME:PDT
DTSTART:20230312T100000
END:DAYLIGHT
BEGIN:STANDARD
TZOFFSETFROM:-0700
TZOFFSETTO:-0800
TZNAME:PST
DTSTART:20231105T090000
END:STANDARD
BEGIN:DAYLIGHT
TZOFFSETFROM:-0800
TZOFFSETTO:-0700
TZNAME:PDT
DTSTART:20240310T100000
END:DAYLIGHT
BEGIN:STANDARD
TZOFFSETFROM:-0700
TZOFFSETTO:-0800
TZNAME:PST
DTSTART:20241103T090000
END:STANDARD
END:VTIMEZONE
BEGIN:VEVENT
DTSTART;TZID=America/Los_Angeles:20231013T090000
DTEND;TZID=America/Los_Angeles:20231013T170000
DTSTAMP:20260419T194010
CREATED:20231012T233859Z
LAST-MODIFIED:20231012T233918Z
UID:10001067-1697187600-1697216400@elarcdecalifornia.org
SUMMARY:UCLA TARJAN CENTER FORO EN DISCAPACIDADES DEL NEURODESARROLLO
DESCRIPTION:El foro de UCLA Tarjan Center 2023 tiene como objetivo fomentar la discusión entre los autogestores\, familias y profesionales. Las presentaciones de los profesores\, discusiones con miembros de la comunidad y las preguntas y respuestas de la audiencia\, destacarán los últimos avances en la investigación y la práctica basada en evidencia en autismo\, discapacidad intelectual\, síndrome de Down\, parálisis cerebral y otras discapacidades del\ndesarrollo neurológico. \nPresentadores destacados: \n\nDr. Cathy Lord\nKayla McKeon\nDr. Brandon Ito\nDr. Rujuta Wilson\nDr. Eileen Fowler\nDr. Elizabeth Laugeson\n\nLos temas sobre discapacidades del neurodesarrollo incluyen: \n\nPerspectivas familiares\nAutodefensa y Política\nGénero e identidad sexual\nDesafíos de los sistemas motores\nTerapia física y ocupacional\nEmpleo\n\nSe proporcionará subtitulación e interpretación simultánea en vivo en español. \nUCLA \nTarjan Center \nWWW.TARJANCENTER.ORG
URL:https://elarcdecalifornia.org/evento/ucla-tarjan-center-foro-en-discapacidades-del-neurodesarrollo/
CATEGORIES:Entrenamientos por zoom
ATTACH;FMTTYPE=image/png:https://elarcdecalifornia.org/wp-content/uploads/2023/10/Unknown-2-1.png
END:VEVENT
END:VCALENDAR