BEGIN:VCALENDAR
VERSION:2.0
PRODID:-//El Arc - ECPv6.15.20//NONSGML v1.0//EN
CALSCALE:GREGORIAN
METHOD:PUBLISH
X-WR-CALNAME:El Arc
X-ORIGINAL-URL:https://elarcdecalifornia.org
X-WR-CALDESC:Eventos para El Arc
REFRESH-INTERVAL;VALUE=DURATION:PT1H
X-Robots-Tag:noindex
X-PUBLISHED-TTL:PT1H
BEGIN:VTIMEZONE
TZID:America/Los_Angeles
BEGIN:DAYLIGHT
TZOFFSETFROM:-0800
TZOFFSETTO:-0700
TZNAME:PDT
DTSTART:20220313T100000
END:DAYLIGHT
BEGIN:STANDARD
TZOFFSETFROM:-0700
TZOFFSETTO:-0800
TZNAME:PST
DTSTART:20221106T090000
END:STANDARD
BEGIN:DAYLIGHT
TZOFFSETFROM:-0800
TZOFFSETTO:-0700
TZNAME:PDT
DTSTART:20230312T100000
END:DAYLIGHT
BEGIN:STANDARD
TZOFFSETFROM:-0700
TZOFFSETTO:-0800
TZNAME:PST
DTSTART:20231105T090000
END:STANDARD
BEGIN:DAYLIGHT
TZOFFSETFROM:-0800
TZOFFSETTO:-0700
TZNAME:PDT
DTSTART:20240310T100000
END:DAYLIGHT
BEGIN:STANDARD
TZOFFSETFROM:-0700
TZOFFSETTO:-0800
TZNAME:PST
DTSTART:20241103T090000
END:STANDARD
END:VTIMEZONE
BEGIN:VEVENT
DTSTART;TZID=America/Los_Angeles:20231012T090000
DTEND;TZID=America/Los_Angeles:20231012T110000
DTSTAMP:20260419T193726
CREATED:20230830T215338Z
LAST-MODIFIED:20230907T212116Z
UID:10000187-1697101200-1697108400@elarcdecalifornia.org
SUMMARY:Tele ECHO Autismo
DESCRIPTION:¡Nuevo formato híbrido que conecta familias\, ! profesionales al cuidado del autismo con un grupo de expertos localizados en nuestro centro académico de excelencia del cuidado del autismo Todos colaboran\, todos aprenden y mejoran el cuidado de personas con autismo! ¡ECHO Autismo mueve el conocimiento\, no a los pacientes! Sin ningún costo. \nSegundo Jueves de cada mes\n9:00 AM- 11:00 AM (Hora del pacifico) \nDetalles\nRegistrarse
URL:https://elarcdecalifornia.org/evento/tele-echo-autismo/2023-10-12/
CATEGORIES:Entrenamientos por zoom
END:VEVENT
BEGIN:VEVENT
DTSTART;TZID=America/Los_Angeles:20231012T100000
DTEND;TZID=America/Los_Angeles:20231012T120000
DTSTAMP:20260419T193726
CREATED:20231009T204952Z
LAST-MODIFIED:20231009T204952Z
UID:10001011-1697104800-1697112000@elarcdecalifornia.org
SUMMARY:Series sobre la transición a la edad adulta
DESCRIPTION:Para obtener más información o para asistencia \nde registro\, envíe un correo electrónico a \nAngela Gattis a agattis@careparentnetwork.org \no llamar 925-230-4332
URL:https://elarcdecalifornia.org/evento/series-sobre-la-transicion-a-la-edad-adulta/2023-10-12/
CATEGORIES:Entrenamientos por zoom
ATTACH;FMTTYPE=image/png:https://elarcdecalifornia.org/wp-content/uploads/2023/10/Unknown-3.png
END:VEVENT
BEGIN:VEVENT
DTSTART;TZID=America/Los_Angeles:20231012T160000
DTEND;TZID=America/Los_Angeles:20231012T170000
DTSTAMP:20260419T193726
CREATED:20231009T205324Z
LAST-MODIFIED:20231009T205351Z
UID:10001066-1697126400-1697130000@elarcdecalifornia.org
SUMMARY:De conductor a pasajero: El papel de los padres en la transición a la adultez
DESCRIPTION:Parece que fue ayer que su hijo/a era tan solo un niño. A medida que avanzan hacia la transición a la edad adulta\, nosotros\, como padres\, debemos ajustar nuestro papel para permitirles madurar y convertirse en adultos jóvenes independientes\, lo que sea que pueda parecer para ellos. \nÚnase a nosotros para hablar sobre nuestro viaje a medida que nuestros adultos jóvenes hacen la transición a la edad adulta. \nEn este seminario web aprenderá:\nA soltar lentamente\, asegurándonos de que todo esté bien\nPasos que le ayudarán a preparar a su hijo a ser un adulto independiente\nPasos que lo ayudarán a asumir su nuevo papel en la transición de su hijo/a \nEste seminario web será presentado por personal de Parents Helping Parents. \nEste es un evento de Connections California. Connections California\, un proyecto de Parents Helping Parents – Silicon Valley. \n#CCA
URL:https://elarcdecalifornia.org/evento/de-conductor-a-pasajero-el-papel-de-los-padres-en-la-transicion-a-la-adultez/
CATEGORIES:Entrenamientos por zoom
ATTACH;FMTTYPE=image/png:https://elarcdecalifornia.org/wp-content/uploads/2023/10/Unknown-4.png
END:VEVENT
END:VCALENDAR