BEGIN:VCALENDAR
VERSION:2.0
PRODID:-//El Arc - ECPv6.15.20//NONSGML v1.0//EN
CALSCALE:GREGORIAN
METHOD:PUBLISH
X-ORIGINAL-URL:https://elarcdecalifornia.org
X-WR-CALDESC:Eventos para El Arc
REFRESH-INTERVAL;VALUE=DURATION:PT1H
X-Robots-Tag:noindex
X-PUBLISHED-TTL:PT1H
BEGIN:VTIMEZONE
TZID:America/Los_Angeles
BEGIN:DAYLIGHT
TZOFFSETFROM:-0800
TZOFFSETTO:-0700
TZNAME:PDT
DTSTART:20220313T100000
END:DAYLIGHT
BEGIN:STANDARD
TZOFFSETFROM:-0700
TZOFFSETTO:-0800
TZNAME:PST
DTSTART:20221106T090000
END:STANDARD
BEGIN:DAYLIGHT
TZOFFSETFROM:-0800
TZOFFSETTO:-0700
TZNAME:PDT
DTSTART:20230312T100000
END:DAYLIGHT
BEGIN:STANDARD
TZOFFSETFROM:-0700
TZOFFSETTO:-0800
TZNAME:PST
DTSTART:20231105T090000
END:STANDARD
BEGIN:DAYLIGHT
TZOFFSETFROM:-0800
TZOFFSETTO:-0700
TZNAME:PDT
DTSTART:20240310T100000
END:DAYLIGHT
BEGIN:STANDARD
TZOFFSETFROM:-0700
TZOFFSETTO:-0800
TZNAME:PST
DTSTART:20241103T090000
END:STANDARD
END:VTIMEZONE
BEGIN:VEVENT
DTSTART;TZID=America/Los_Angeles:20231011T120000
DTEND;TZID=America/Los_Angeles:20231011T143000
DTSTAMP:20260419T193915
CREATED:20231009T201133Z
LAST-MODIFIED:20231009T201237Z
UID:10000948-1697025600-1697034600@elarcdecalifornia.org
SUMMARY:Grupo de Apoyo Sobre Autismo
DESCRIPTION:Únase a nosotros para conectarse con otras familias como la suya. \nEsta es una reunión de grupo de apoyo\, tú propones el tema. Es un buen momento para reunirse y aprender unos de otros mientras las familias navegan por nuestra vida diaria. ¿Necesita nuevas ideas de personas que entienden las complicaciones de su vida? De todos modos\, esta reunión será buena para compartir y cuidarse unos a otros. ¡Las nuevas familias y cuidadores siempre son bienvenidos! \nPor favor regístrese con anticipación haciendo clic en el botón de REGISTRARSE. \n¡La mayoría de los seminarios web\, grupos de apoyo y servicios de PHP son GRATUITOS! Estamos comprometidos a brindar contenido en línea innovador y de alta calidad a familias como la suya. \n“Este grupo es auspiciado en parte por el Departamento de Servicios del Desarrollo y su programs Access and Equity – Acceso y Equidad” \n#Autismo #Español
URL:https://elarcdecalifornia.org/evento/grupo-de-apoyo-sobre-autismo/
CATEGORIES:Entrenamientos por zoom,Grupo de apoyos
ATTACH;FMTTYPE=image/png:https://elarcdecalifornia.org/wp-content/uploads/2023/10/Unknown-4.png
END:VEVENT
BEGIN:VEVENT
DTSTART;TZID=America/Los_Angeles:20231011T170000
DTEND;TZID=America/Los_Angeles:20231011T183000
DTSTAMP:20260419T193915
CREATED:20231009T201658Z
LAST-MODIFIED:20231009T201748Z
UID:10000949-1697043600-1697049000@elarcdecalifornia.org
SUMMARY:Los factores psicológicos\, sociales y culturales que pueden apoyar la salud
DESCRIPTION:Los factores psicológicos\, sociales y culturales que pueden apoyar la salud mental. \nPresentadora: Verónica González Consejera. \nPara participar por favor entre en el enlace. \n 
URL:https://elarcdecalifornia.org/evento/los-factores-psicologicos-sociales-y-culturales-que-pueden-apoyar-la-salud/
CATEGORIES:Entrenamientos por zoom
ATTACH;FMTTYPE=image/jpeg:https://elarcdecalifornia.org/wp-content/uploads/2023/10/Unknown-2.jpeg
END:VEVENT
END:VCALENDAR