BEGIN:VCALENDAR
VERSION:2.0
PRODID:-//El Arc - ECPv6.15.20//NONSGML v1.0//EN
CALSCALE:GREGORIAN
METHOD:PUBLISH
X-ORIGINAL-URL:https://elarcdecalifornia.org
X-WR-CALDESC:Eventos para El Arc
REFRESH-INTERVAL;VALUE=DURATION:PT1H
X-Robots-Tag:noindex
X-PUBLISHED-TTL:PT1H
BEGIN:VTIMEZONE
TZID:America/Los_Angeles
BEGIN:DAYLIGHT
TZOFFSETFROM:-0800
TZOFFSETTO:-0700
TZNAME:PDT
DTSTART:20220313T100000
END:DAYLIGHT
BEGIN:STANDARD
TZOFFSETFROM:-0700
TZOFFSETTO:-0800
TZNAME:PST
DTSTART:20221106T090000
END:STANDARD
BEGIN:DAYLIGHT
TZOFFSETFROM:-0800
TZOFFSETTO:-0700
TZNAME:PDT
DTSTART:20230312T100000
END:DAYLIGHT
BEGIN:STANDARD
TZOFFSETFROM:-0700
TZOFFSETTO:-0800
TZNAME:PST
DTSTART:20231105T090000
END:STANDARD
BEGIN:DAYLIGHT
TZOFFSETFROM:-0800
TZOFFSETTO:-0700
TZNAME:PDT
DTSTART:20240310T100000
END:DAYLIGHT
BEGIN:STANDARD
TZOFFSETFROM:-0700
TZOFFSETTO:-0800
TZNAME:PST
DTSTART:20241103T090000
END:STANDARD
END:VTIMEZONE
BEGIN:VEVENT
DTSTART;TZID=America/Los_Angeles:20231009T100000
DTEND;TZID=America/Los_Angeles:20231009T110000
DTSTAMP:20260419T194017
CREATED:20230907T214108Z
LAST-MODIFIED:20230907T214109Z
UID:10000251-1696845600-1696849200@elarcdecalifornia.org
SUMMARY:Entrenamientos Estatales de SCDD del año 2023
DESCRIPTION:¡Nos Vemos en ZOOM!! ¡Todos los entrenamientos usarán el mismo número de juntas y contraseña todo el año! Los entrenamientos se darán en series de temas y serán ofrecidos en español. Vea las fechas y temas correspondientes en el volante. Número de Junta: 829-8230-7774 Contraseña: 123456. Para participar por teléfono\, llame al (888) 475-4499 e ingrese el número de juntas y contraseña. Para más información: (818) 543-4636 o Sofia.Cervantes@scdd.ca.gov \nLos lunes\n10:00 AM (Hora del pacífico) \nDetalles\nRegistrarse
URL:https://elarcdecalifornia.org/evento/test-event-2/2023-10-09/
CATEGORIES:Entrenamientos por zoom
END:VEVENT
BEGIN:VEVENT
DTSTART;TZID=America/Los_Angeles:20231009T100000
DTEND;TZID=America/Los_Angeles:20231009T120000
DTSTAMP:20260419T194017
CREATED:20231009T203658Z
LAST-MODIFIED:20231009T203732Z
UID:10001010-1696845600-1696852800@elarcdecalifornia.org
SUMMARY:La Familia Aprende\, Promueve y Actúa (APA) LA FAMILIA Te invita a un taller de: QUE SON LOS CENTROS DE CUIDADO INTERMEDIO (ICF)
DESCRIPTION:En esta plática\, daremos información sobre las ICF (Centros de Cuidado Intermedio)\, que son un recurso residencial para su hijo(a) o familiar con discapacidad intelectual cuando no es posible que vivan de manera independiente y ustedes o su familia ya no pueden hacerse cargo de ellos. \nQue son los Centros de Cuidado Intermedio (ICF) | jueves\, 12 de octubre de 2023 (Zoom)\, 10:00 am – 12:00 pm | Enlace de registro
URL:https://elarcdecalifornia.org/evento/la-familia-aprende-promueve-y-actua-apa-la-familia-te-invita-a-un-taller-de-que-son-los-centros-de-cuidado-intermedio-icf/
CATEGORIES:Entrenamientos por zoom
ATTACH;FMTTYPE=image/jpeg:https://elarcdecalifornia.org/wp-content/uploads/2023/10/Unknown-3.jpeg
END:VEVENT
END:VCALENDAR