BEGIN:VCALENDAR
VERSION:2.0
PRODID:-//El Arc - ECPv6.15.20//NONSGML v1.0//EN
CALSCALE:GREGORIAN
METHOD:PUBLISH
X-WR-CALNAME:El Arc
X-ORIGINAL-URL:https://elarcdecalifornia.org
X-WR-CALDESC:Eventos para El Arc
REFRESH-INTERVAL;VALUE=DURATION:PT1H
X-Robots-Tag:noindex
X-PUBLISHED-TTL:PT1H
BEGIN:VTIMEZONE
TZID:America/Los_Angeles
BEGIN:DAYLIGHT
TZOFFSETFROM:-0800
TZOFFSETTO:-0700
TZNAME:PDT
DTSTART:20220313T100000
END:DAYLIGHT
BEGIN:STANDARD
TZOFFSETFROM:-0700
TZOFFSETTO:-0800
TZNAME:PST
DTSTART:20221106T090000
END:STANDARD
BEGIN:DAYLIGHT
TZOFFSETFROM:-0800
TZOFFSETTO:-0700
TZNAME:PDT
DTSTART:20230312T100000
END:DAYLIGHT
BEGIN:STANDARD
TZOFFSETFROM:-0700
TZOFFSETTO:-0800
TZNAME:PST
DTSTART:20231105T090000
END:STANDARD
BEGIN:DAYLIGHT
TZOFFSETFROM:-0800
TZOFFSETTO:-0700
TZNAME:PDT
DTSTART:20240310T100000
END:DAYLIGHT
BEGIN:STANDARD
TZOFFSETFROM:-0700
TZOFFSETTO:-0800
TZNAME:PST
DTSTART:20241103T090000
END:STANDARD
END:VTIMEZONE
BEGIN:VEVENT
DTSTART;TZID=America/Los_Angeles:20230930T100000
DTEND;TZID=America/Los_Angeles:20230930T150000
DTSTAMP:20260419T193717
CREATED:20230925T155803Z
LAST-MODIFIED:20230925T155803Z
UID:10000936-1696068000-1696086000@elarcdecalifornia.org
SUMMARY:Cómo promover la justicia para las personas neurodivergentes mediante la formación de coaliciones y el cambio sistémico
DESCRIPTION:Sábado\, 30 de septiembre de 2023 \n10:00 am – 3:00 pm en línea \nLos temas incluyen… \n\nJusticia social\nCompetencia cultural y humildad\nInterseccionalidad\nEjemplos de disparidades\n\n\nPor qué la defensa individual no siempre es la respuesta\nCómo obtener justicia y usar estrategias para eliminar las barreras que crean disparidades
URL:https://elarcdecalifornia.org/evento/como-promover-la-justicia-para-las-personas-neurodivergentes-mediante-la-formacion-de-coaliciones-y-el-cambio-sistemico/
CATEGORIES:Entrenamientos por zoom
ATTACH;FMTTYPE=image/jpeg:https://elarcdecalifornia.org/wp-content/uploads/2023/09/LTLD-FLYER-SPANISH-F-scaled.jpg
END:VEVENT
END:VCALENDAR