BEGIN:VCALENDAR
VERSION:2.0
PRODID:-//El Arc - ECPv6.15.20//NONSGML v1.0//EN
CALSCALE:GREGORIAN
METHOD:PUBLISH
X-WR-CALNAME:El Arc
X-ORIGINAL-URL:https://elarcdecalifornia.org
X-WR-CALDESC:Eventos para El Arc
REFRESH-INTERVAL;VALUE=DURATION:PT1H
X-Robots-Tag:noindex
X-PUBLISHED-TTL:PT1H
BEGIN:VTIMEZONE
TZID:America/Los_Angeles
BEGIN:DAYLIGHT
TZOFFSETFROM:-0800
TZOFFSETTO:-0700
TZNAME:PDT
DTSTART:20220313T100000
END:DAYLIGHT
BEGIN:STANDARD
TZOFFSETFROM:-0700
TZOFFSETTO:-0800
TZNAME:PST
DTSTART:20221106T090000
END:STANDARD
BEGIN:DAYLIGHT
TZOFFSETFROM:-0800
TZOFFSETTO:-0700
TZNAME:PDT
DTSTART:20230312T100000
END:DAYLIGHT
BEGIN:STANDARD
TZOFFSETFROM:-0700
TZOFFSETTO:-0800
TZNAME:PST
DTSTART:20231105T090000
END:STANDARD
BEGIN:DAYLIGHT
TZOFFSETFROM:-0800
TZOFFSETTO:-0700
TZNAME:PDT
DTSTART:20240310T100000
END:DAYLIGHT
BEGIN:STANDARD
TZOFFSETFROM:-0700
TZOFFSETTO:-0800
TZNAME:PST
DTSTART:20241103T090000
END:STANDARD
END:VTIMEZONE
BEGIN:VEVENT
DTSTART;TZID=America/Los_Angeles:20231204T100000
DTEND;TZID=America/Los_Angeles:20231204T110000
DTSTAMP:20260419T144030
CREATED:20230907T214108Z
LAST-MODIFIED:20230907T214109Z
UID:10000258-1701684000-1701687600@elarcdecalifornia.org
SUMMARY:Entrenamientos Estatales de SCDD del año 2023
DESCRIPTION:¡Nos Vemos en ZOOM!! ¡Todos los entrenamientos usarán el mismo número de juntas y contraseña todo el año! Los entrenamientos se darán en series de temas y serán ofrecidos en español. Vea las fechas y temas correspondientes en el volante. Número de Junta: 829-8230-7774 Contraseña: 123456. Para participar por teléfono\, llame al (888) 475-4499 e ingrese el número de juntas y contraseña. Para más información: (818) 543-4636 o Sofia.Cervantes@scdd.ca.gov \nLos lunes\n10:00 AM (Hora del pacífico) \nDetalles\nRegistrarse
URL:https://elarcdecalifornia.org/evento/test-event-2/2023-12-04/
CATEGORIES:Entrenamientos por zoom
END:VEVENT
BEGIN:VEVENT
DTSTART;TZID=America/Los_Angeles:20231206T170000
DTEND;TZID=America/Los_Angeles:20231206T183000
DTSTAMP:20260419T144030
CREATED:20231201T004729Z
LAST-MODIFIED:20231201T004729Z
UID:10001462-1701882000-1701887400@elarcdecalifornia.org
SUMMARY:La importancia de cerrar el año cuidando nuestra
DESCRIPTION:Tendrá la oportunidad de hablar con un Médico y hacerle preguntas sobre “Cuidando su Salud”\nTendrá la oportunidad de hablar con un Médico y hacerle preguntas sobre “Atención médica”\n\nGrupo virtual recurrente- Todos los miércoles a las 5:00 pm.
URL:https://elarcdecalifornia.org/evento/la-importancia-de-cerrar-el-ano-cuidando-nuestra/2023-12-06/
CATEGORIES:Entrenamientos por zoom
ATTACH;FMTTYPE=image/png:https://elarcdecalifornia.org/wp-content/uploads/2023/11/Screenshot-2023-11-30-at-4.33.45 PM.png
END:VEVENT
BEGIN:VEVENT
DTSTART;TZID=America/Los_Angeles:20231206T180000
DTEND;TZID=America/Los_Angeles:20231206T193000
DTSTAMP:20260419T144030
CREATED:20231204T205903Z
LAST-MODIFIED:20231204T205903Z
UID:10001487-1701885600-1701891000@elarcdecalifornia.org
SUMMARY:El Grupo de apoyo para todas las discapacidades los invita a una Serie de talleres sobre beneficios públicos para personas con discapacidades
DESCRIPTION:Elegibilidad y apelaciones de SSI\nPresentado en español \nConozca los requisitos de elegibilidad de la Seguridad de Ingreso Suplementario (SSI\, por sus siglas en inglés)\, las apelaciones\, los requisitos de presentación de informes y otros temas.
URL:https://elarcdecalifornia.org/evento/el-grupo-de-apoyo-para-todas-las-discapacidades-los-invita-a-una-serie-de-talleres-sobre-beneficios-publicos-para-personas-con-discapacidades/
CATEGORIES:Entrenamientos por zoom
ATTACH;FMTTYPE=image/jpeg:https://elarcdecalifornia.org/wp-content/uploads/2023/12/Unknown.jpeg
END:VEVENT
BEGIN:VEVENT
DTSTART;TZID=America/Los_Angeles:20231207T180000
DTEND;TZID=America/Los_Angeles:20231207T193000
DTSTAMP:20260419T144030
CREATED:20231204T210048Z
LAST-MODIFIED:20231204T210500Z
UID:10001488-1701972000-1701977400@elarcdecalifornia.org
SUMMARY:Discusión abierta entre cuidadores sobre la autodeterminación Venga a escuchar lo que los padres de los clientes del centro regional tienen que decir sobre los beneficios y desafíos del Programa de Autodeterminación.
DESCRIPTION:El Programa de autodeterminación (SPD) que se ofrece a los clientes del centro regional puede brindarles más libertad de elección e independencia antes y después de su transición a la edad adulta. SDP brinda a las personas y sus familias más control y responsabilidad al elegir servicios y apoyos para ayudarlos a alcanzar las metas de su vida. SDP está disponible para todas las personas elegibles que reciben servicios de un centro regional.Únase a nosotros y a un panel de padres para escuchar lo que los padres de los clientes del centro regional que están en SDP tienen que decir sobre los beneficios y desafíos que han experimentado. \nLos padres discutirán:\n– ¿Cómo iniciaron el proceso y cuánto tiempo les tomó ingresar a SDP?\n– ¿Tenían un plan centrado en la persona para su ser querido?\n– ¿Trabajaron con un Facilitador Independiente?\n– ¿Cómo encontraron y mantuvieron al personal para el SDP de sus seres queridos?\n– ¿Qué hace un Servicio de Gestión Financiera y cómo lo eligieron? \nEste es un evento de Connections California. Connections California\, un proyecto de Parents Helping Parents – Silicon Valley\n#CCA
URL:https://elarcdecalifornia.org/evento/discusion-abierta-entre-cuidadores-sobre-la-autodeterminacion-venga-a-escuchar-lo-que-los-padres-de-los-clientes-del-centro-regional-tienen-que-decir-sobre-los-beneficios-y-desafios-del-programa-de-au/
CATEGORIES:Entrenamientos por zoom
ATTACH;FMTTYPE=image/jpeg:https://elarcdecalifornia.org/wp-content/uploads/2023/12/Unknown-4.jpeg
END:VEVENT
BEGIN:VEVENT
DTSTART;TZID=America/Los_Angeles:20231207T183000
DTEND;TZID=America/Los_Angeles:20231207T193000
DTSTAMP:20260419T144031
CREATED:20231204T210907Z
LAST-MODIFIED:20231204T210907Z
UID:10001489-1701973800-1701977400@elarcdecalifornia.org
SUMMARY:Una guía Rápida del proceso de educación especial y IEP
DESCRIPTION:Esta capacitación virtual es para padres/cuidadores de niños de 2 a 21 años con discapacidades presuntas o conocidas y profesionales; se presentará en español. \n¿Le gustaría mejorar sus habilidades y conocimientos para convertirse en socios activos en el desarrollo del programa educativo de su hijo? \nEsta capacitación en línea lo ayudará a comprender el proceso de educación especial; es una descripción general de los entresijos del IEP. El objetivo es ayudarlo a comprender sus derechos\, reconocer el valor de su experiencia como padre y mejorar sus habilidades de comunicación y resolución de problemas. Su participación es esencial\, ya sea que el equipo del IEP se reúna virtualmente o en persona. \nEn este seminario web\, aprenderá lo siguiente:\n-Evaluación\, proceso y plazos de educación especial\n-Componentes del IEP\n-Participación en reuniones del IEP\, comunicación y resolución de desacuerdos \nEste seminario web será presentado por un especialista en recursos de educación especial de PHP. Fue desarrollado y hecho posible gracias a una subvención del Departamento de Educación de los EE. UU. en colaboración con Parents Helping Parents y EPU Children’s Center. Ambas agencias recopilan sus datos de registro. La privacidad y la confidencialidad se toman en serio; la política de privacidad está en el sitio web. \nAdaptaciones: Si necesita adaptaciones para participar en la capacitación o necesita ayuda para registrarse por teléfono\, comuníquese con nosotros al 408.727.5775 #184 o nicole@php.com lo antes posible. ¡Generalmente\, requerimos 10 días para organizar la adaptación y queremos asegurarnos de que esté incluido!
URL:https://elarcdecalifornia.org/evento/una-guia-rapida-del-proceso-de-educacion-especial-y-iep/
CATEGORIES:Entrenamientos por zoom
ATTACH;FMTTYPE=image/jpeg:https://elarcdecalifornia.org/wp-content/uploads/2023/12/Unknown-4-1.jpeg
END:VEVENT
BEGIN:VEVENT
DTSTART;TZID=America/Los_Angeles:20231209T090000
DTEND;TZID=America/Los_Angeles:20231209T120000
DTSTAMP:20260419T144031
CREATED:20231117T011349Z
LAST-MODIFIED:20231117T011349Z
UID:10001453-1702112400-1702123200@elarcdecalifornia.org
SUMMARY:La Ley ADA
DESCRIPTION:¿Qué es la Ley de Estadounidenses con Discapacidades (ADA) y cómo puede ayudar a los miembros de su familia con discapacidades?\n\nLa ADA es una ley importante que protege a muchas personas con discapacidades que viven en los EE. UU.\n\nLa Ley ADA puede ayudar a las personas con discapacidades a:\n\nAprender de los requisitos de acceso a programas y servicios médicos\, gubernamentales\, y escolares.\nMoverse más fácilmente en los lugares que visitan y compran.\nProtegerse de ser tratadas injustamente cuando buscan trabajo\, en el trabajo y en la comunidad.\n\n\n{Si su hijo/a es un cliente del Centro Regional del Este la Bahía (RCEB) tenga listo el número de UCI de su hijo/a para poderse registrarse. Si no se sabe el número\, comuníquese con su coordinador de servicios del centro regional y se lo darán.}
URL:https://elarcdecalifornia.org/evento/la-ley-ada/
CATEGORIES:Entrenamientos por zoom
ATTACH;FMTTYPE=image/png:https://elarcdecalifornia.org/wp-content/uploads/2023/11/Screenshot-2023-11-16-at-5.00.41 PM.png
END:VEVENT
BEGIN:VEVENT
DTSTART;VALUE=DATE:20231211
DTEND;VALUE=DATE:20231212
DTSTAMP:20260419T144031
CREATED:20231209T181924Z
LAST-MODIFIED:20231209T182905Z
UID:10001494-1702252800-1702339199@elarcdecalifornia.org
SUMMARY:Futuros y Esperanza
DESCRIPTION:Futuros y Esperanza ofrece asistencia crítica\, recursos y una comunidad de apoyo para cuidadores y familiares de adultos con discapacidades del desarrollo. ¡Manténgase informado sobre nuestros próximos seminarios web y clases! \nLa inscripción se abre el lunes 11 de diciembre a las 9 a.m. para la serie de clases “El futuro es ahora” de enero.
URL:https://elarcdecalifornia.org/evento/futuros-y-esperanza/
CATEGORIES:Entrenamientos por zoom,Grupo de apoyos
ATTACH;FMTTYPE=image/png:https://elarcdecalifornia.org/wp-content/uploads/2023/12/Unknown-1.png
END:VEVENT
BEGIN:VEVENT
DTSTART;TZID=America/Los_Angeles:20231211T100000
DTEND;TZID=America/Los_Angeles:20231211T110000
DTSTAMP:20260419T144031
CREATED:20230907T214108Z
LAST-MODIFIED:20230907T214109Z
UID:10000259-1702288800-1702292400@elarcdecalifornia.org
SUMMARY:Entrenamientos Estatales de SCDD del año 2023
DESCRIPTION:¡Nos Vemos en ZOOM!! ¡Todos los entrenamientos usarán el mismo número de juntas y contraseña todo el año! Los entrenamientos se darán en series de temas y serán ofrecidos en español. Vea las fechas y temas correspondientes en el volante. Número de Junta: 829-8230-7774 Contraseña: 123456. Para participar por teléfono\, llame al (888) 475-4499 e ingrese el número de juntas y contraseña. Para más información: (818) 543-4636 o Sofia.Cervantes@scdd.ca.gov \nLos lunes\n10:00 AM (Hora del pacífico) \nDetalles\nRegistrarse
URL:https://elarcdecalifornia.org/evento/test-event-2/2023-12-11/
CATEGORIES:Entrenamientos por zoom
END:VEVENT
BEGIN:VEVENT
DTSTART;TZID=America/Los_Angeles:20231211T100000
DTEND;TZID=America/Los_Angeles:20231211T110000
DTSTAMP:20260419T144031
CREATED:20231209T181236Z
LAST-MODIFIED:20231209T181604Z
UID:10001493-1702288800-1702292400@elarcdecalifornia.org
SUMMARY:Educación Especial: Información Básica y Esencial
DESCRIPTION:Una descripción general del proceso de educación especial\, la Ley de Rehabilitación\, sección 504 y la Ley de Educación para Personas con Discapacidades (IDEA – por sus siglas en inglés). \nDebe registrarse con anticipación para esta capacitación.
URL:https://elarcdecalifornia.org/evento/educacion-especial-informacion-basica-y-esencial/
CATEGORIES:Entrenamientos por zoom
ATTACH;FMTTYPE=image/jpeg:https://elarcdecalifornia.org/wp-content/uploads/2023/12/Unknown-3.jpeg
END:VEVENT
BEGIN:VEVENT
DTSTART;TZID=America/Los_Angeles:20231212T100000
DTEND;TZID=America/Los_Angeles:20231212T113000
DTSTAMP:20260419T144031
CREATED:20231209T183132Z
LAST-MODIFIED:20231209T183132Z
UID:10001495-1702375200-1702380600@elarcdecalifornia.org
SUMMARY:Chocolate Caliente - Grupo de Apoyo - Planificación para la transición
DESCRIPTION:Chocolate Caliente es un grupo de apoyo dirigido a padres de hijos con necesidades especiales que quieren aprender más sobre la planificación para la transición a la edad adulta. Recomendado a mayores de 12 años. Participa\, comparte tus experiencias\, aprende de las experiencias de otros.
URL:https://elarcdecalifornia.org/evento/chocolate-caliente-grupo-de-apoyo-planificacion-para-la-transicion/
CATEGORIES:Entrenamientos por zoom,Grupo de apoyos
ATTACH;FMTTYPE=image/jpeg:https://elarcdecalifornia.org/wp-content/uploads/2023/12/Unknown-4-1.jpeg
END:VEVENT
BEGIN:VEVENT
DTSTART;TZID=America/Los_Angeles:20231213T100000
DTEND;TZID=America/Los_Angeles:20231213T113000
DTSTAMP:20260419T144031
CREATED:20231209T185429Z
LAST-MODIFIED:20231209T185429Z
UID:10001498-1702461600-1702467000@elarcdecalifornia.org
SUMMARY:Comprendiendo la Terapia ABA: Estrategias Colaborativas para Niños Pequeños
DESCRIPTION:Al asistir a este seminario web\, los participantes saldrán con una mejor comprensión de cómo buscar apoyo cuando se enfrentan conductas problemáticas en distintos entornos. Los participantes aprenderán herramientas y estrategias prácticas diseñadas para tener un impacto positivo en las vidas de los niños pequeños y sus familias. Únase a nosotros mientras lo capacitamos para maximizar el potencial de su alumno y crear un entorno de apoyo\, colaboración e inclusión para su crecimiento y desarrollo. \nEn este seminario web\, comprenderá:\nLos participantes aprenderán herramientas y estrategias prácticas diseñadas para tener un impacto positivo en las vidas de los niños pequeños y sus familias.\nPrácticas culturalmente competentes para aumentar la colaboración efectiva entre cuidadores\, maestros\, terapeutas\, proveedores de cuidado infantil y trabajadores sociales que apoyan a niños pequeños con necesidades especiales.\nCuándo buscar el apoyo de un practicante de ABA. \nÓscar es el director de Garantía de Calidad en Behavior Treatment Analysis. En este rol\, Óscar brinda capacitación y tutoría continua a supervisores de conducta\, técnicos de conducta registrados y profesionales de la conducta en el entorno clínico. Óscar ha trabajado con estudiantes de la comunidad neurodivergente durante más de diez años. Óscar lidera grupos de estudiantes que trabajan para obtener su certificación BACB como docente. También ha desarrollado cursos bajo la quinta edición de la lista de tareas y se encuentra trabajando en su Doctorado en la Universidad Nacional. \nEsta serie de seminarios web de Zoom se ofrece para los socios de FIRST 5 y otros profesionales locales tales como proveedores de intervención temprana\, trabajadores sociales\, visitadores domiciliarios\, proveedores de cuidado infantil y preescolar\, personal de centros de recursos familiares\, proveedores de servicios terapéuticos y también para padres. Este seminario web se presentará totalmente en español. \nFinanciado por una generosa subvención de FIRST 5 del condado de Santa Clara
URL:https://elarcdecalifornia.org/evento/comprendiendo-la-terapia-aba-estrategias-colaborativas-para-ninos-pequenos/
CATEGORIES:Entrenamientos por zoom
ATTACH;FMTTYPE=image/jpeg:https://elarcdecalifornia.org/wp-content/uploads/2023/12/Unknown-5.jpeg
END:VEVENT
BEGIN:VEVENT
DTSTART;TZID=America/Los_Angeles:20231213T120000
DTEND;TZID=America/Los_Angeles:20231213T133000
DTSTAMP:20260419T144031
CREATED:20231209T185701Z
LAST-MODIFIED:20231209T185701Z
UID:10001499-1702468800-1702474200@elarcdecalifornia.org
SUMMARY:Grupo de Apoyo Sobre Autismo
DESCRIPTION:Únase a nosotros para conectarse con otras familias como la suya. \nEsta es una reunión de grupo de apoyo\, tú propones el tema. Es un buen momento para reunirse y aprender unos de otros mientras las familias navegan por nuestra vida diaria. ¿Necesita nuevas ideas de personas que entienden las complicaciones de su vida? De todos modos\, esta reunión será buena para compartir y cuidarse unos a otros. ¡Las nuevas familias y cuidadores siempre son bienvenidos! \nPor favor\, regístrese con anticipación haciendo clic en el botón de REGISTRARSE. \n¡La mayoría de los seminarios web\, grupos de apoyo y servicios de PHP son GRATUITOS! Estamos comprometidos a brindar contenido en línea innovador y de alta calidad a familias como la suya. \n“Este grupo es auspiciado en parte por el Departamento de Servicios del Desarrollo y su programs Access and Equity – Acceso y Equidad” \n#Autismo #español
URL:https://elarcdecalifornia.org/evento/grupo-de-apoyo-sobre-autismo-2/
CATEGORIES:Entrenamientos por zoom,Grupo de apoyos
ATTACH;FMTTYPE=image/jpeg:https://elarcdecalifornia.org/wp-content/uploads/2023/12/Unknown-1-1.jpeg
END:VEVENT
BEGIN:VEVENT
DTSTART;TZID=America/Los_Angeles:20231213T140000
DTEND;TZID=America/Los_Angeles:20231213T153000
DTSTAMP:20260419T144031
CREATED:20231209T190852Z
LAST-MODIFIED:20231209T190852Z
UID:10001500-1702476000-1702481400@elarcdecalifornia.org
SUMMARY:CalABLE y Fideicomisos para Necesidades Especiales
DESCRIPTION:Nuestro próximo seminario web\, CalABLE y Special Needs Trusts\, explorará el proceso de registro de CalABLE. En el seminario web se incluirá: • Conceptos básicos de CalABLE\n• Conceptos básicos de fideicomisos para necesidades especiales\n• Cómo pueden trabajar juntos CalABLE y Special Needs Trusts El seminario web concluirá con una sesión de preguntas y respuestas para brindar a los participantes la oportunidad de hacer preguntas adicionales.\nSi es nuevo en CalABLE y desea explorar los conceptos básicos del programa\, visite nuestro canal de YouTube para ver repeticiones de algunos de nuestros seminarios web anteriores que analizan los fundamentos de CalABLE.
URL:https://elarcdecalifornia.org/evento/calable-y-fideicomisos-para-necesidades-especiales/
CATEGORIES:Entrenamientos por zoom
ATTACH;FMTTYPE=image/jpeg:https://elarcdecalifornia.org/wp-content/uploads/2023/12/Unknown-2-1.jpeg
END:VEVENT
BEGIN:VEVENT
DTSTART;TZID=America/Los_Angeles:20231213T170000
DTEND;TZID=America/Los_Angeles:20231213T183000
DTSTAMP:20260419T144031
CREATED:20231201T004729Z
LAST-MODIFIED:20231201T004729Z
UID:10001463-1702486800-1702492200@elarcdecalifornia.org
SUMMARY:La importancia de cerrar el año cuidando nuestra
DESCRIPTION:Tendrá la oportunidad de hablar con un Médico y hacerle preguntas sobre “Cuidando su Salud”\nTendrá la oportunidad de hablar con un Médico y hacerle preguntas sobre “Atención médica”\n\nGrupo virtual recurrente- Todos los miércoles a las 5:00 pm.
URL:https://elarcdecalifornia.org/evento/la-importancia-de-cerrar-el-ano-cuidando-nuestra/2023-12-13/
CATEGORIES:Entrenamientos por zoom
ATTACH;FMTTYPE=image/png:https://elarcdecalifornia.org/wp-content/uploads/2023/11/Screenshot-2023-11-30-at-4.33.45 PM.png
END:VEVENT
BEGIN:VEVENT
DTSTART;TZID=America/Los_Angeles:20231214T090000
DTEND;TZID=America/Los_Angeles:20231214T110000
DTSTAMP:20260419T144031
CREATED:20230830T215338Z
LAST-MODIFIED:20230907T212116Z
UID:10000189-1702544400-1702551600@elarcdecalifornia.org
SUMMARY:Tele ECHO Autismo
DESCRIPTION:¡Nuevo formato híbrido que conecta familias\, ! profesionales al cuidado del autismo con un grupo de expertos localizados en nuestro centro académico de excelencia del cuidado del autismo Todos colaboran\, todos aprenden y mejoran el cuidado de personas con autismo! ¡ECHO Autismo mueve el conocimiento\, no a los pacientes! Sin ningún costo. \nSegundo Jueves de cada mes\n9:00 AM- 11:00 AM (Hora del pacifico) \nDetalles\nRegistrarse
URL:https://elarcdecalifornia.org/evento/tele-echo-autismo/2023-12-14/
CATEGORIES:Entrenamientos por zoom
END:VEVENT
BEGIN:VEVENT
DTSTART;TZID=America/Los_Angeles:20231214T100000
DTEND;TZID=America/Los_Angeles:20231214T113000
DTSTAMP:20260419T144031
CREATED:20231209T191116Z
LAST-MODIFIED:20231209T191116Z
UID:10001501-1702548000-1702553400@elarcdecalifornia.org
SUMMARY:Pláticas Amistosas
DESCRIPTION:Con las vacaciones acercándose\, nuestro próximo seminario web Pláticas Amistosas será relevante para muchas familias. Únase a una conversación sobre Ser cuidador durante el estrés navideño: formas de prepararse usted mismo\, su familia y el miembro de su familia con una discapacidad entre la educadora de padres Felisa Strickland y la invitada especial Lina Rodas\, MSW\, LCSW.
URL:https://elarcdecalifornia.org/evento/platicas-amistosas/
CATEGORIES:Entrenamientos por zoom
ATTACH;FMTTYPE=image/jpeg:https://elarcdecalifornia.org/wp-content/uploads/2023/12/Unknown-3-1.jpeg
END:VEVENT
BEGIN:VEVENT
DTSTART;TZID=America/Los_Angeles:20231216T100000
DTEND;TZID=America/Los_Angeles:20231216T120000
DTSTAMP:20260419T144031
CREATED:20231122T210930Z
LAST-MODIFIED:20231122T211132Z
UID:10001456-1702720800-1702728000@elarcdecalifornia.org
SUMMARY:IEP lo Básico y Esencial
DESCRIPTION:SÁBADO 16 DE DICIEMBRE \n10:00 AM – 12:00 PM (Hora del pacífico) \nEsta capacitación básica es para padres y profesionales en cómo abogar por un estudiante con discapacidades\, sospechada de discapacidad o desafíos educativos. Platicaremos de evaluaciones\, metas\, servicios\, colocación\, destrezas de abogacía. \n{Si su hijo/a es un cliente del Centro Regional del Este la Bahía (RCEB) tenga listo el número de UCI de su hijo/a para poderse registrarse. Si no se sabe el número\, comuníquese con su coordinador de servicios del centro regional y se lo darán.}
URL:https://elarcdecalifornia.org/evento/iep-lo-basico-y-esencial/
CATEGORIES:Entrenamientos por zoom
ATTACH;FMTTYPE=application/pdf:https://elarcdecalifornia.org/wp-content/uploads/2023/11/IEP-12-16-23.pdf
END:VEVENT
BEGIN:VEVENT
DTSTART;TZID=America/Los_Angeles:20231218T100000
DTEND;TZID=America/Los_Angeles:20231218T110000
DTSTAMP:20260419T144031
CREATED:20230907T214108Z
LAST-MODIFIED:20230907T214109Z
UID:10000260-1702893600-1702897200@elarcdecalifornia.org
SUMMARY:Entrenamientos Estatales de SCDD del año 2023
DESCRIPTION:¡Nos Vemos en ZOOM!! ¡Todos los entrenamientos usarán el mismo número de juntas y contraseña todo el año! Los entrenamientos se darán en series de temas y serán ofrecidos en español. Vea las fechas y temas correspondientes en el volante. Número de Junta: 829-8230-7774 Contraseña: 123456. Para participar por teléfono\, llame al (888) 475-4499 e ingrese el número de juntas y contraseña. Para más información: (818) 543-4636 o Sofia.Cervantes@scdd.ca.gov \nLos lunes\n10:00 AM (Hora del pacífico) \nDetalles\nRegistrarse
URL:https://elarcdecalifornia.org/evento/test-event-2/2023-12-18/
CATEGORIES:Entrenamientos por zoom
END:VEVENT
BEGIN:VEVENT
DTSTART;TZID=America/Los_Angeles:20231220T170000
DTEND;TZID=America/Los_Angeles:20231220T183000
DTSTAMP:20260419T144031
CREATED:20231201T004729Z
LAST-MODIFIED:20231201T004729Z
UID:10001464-1703091600-1703097000@elarcdecalifornia.org
SUMMARY:La importancia de cerrar el año cuidando nuestra
DESCRIPTION:Tendrá la oportunidad de hablar con un Médico y hacerle preguntas sobre “Cuidando su Salud”\nTendrá la oportunidad de hablar con un Médico y hacerle preguntas sobre “Atención médica”\n\nGrupo virtual recurrente- Todos los miércoles a las 5:00 pm.
URL:https://elarcdecalifornia.org/evento/la-importancia-de-cerrar-el-ano-cuidando-nuestra/2023-12-20/
CATEGORIES:Entrenamientos por zoom
ATTACH;FMTTYPE=image/png:https://elarcdecalifornia.org/wp-content/uploads/2023/11/Screenshot-2023-11-30-at-4.33.45 PM.png
END:VEVENT
BEGIN:VEVENT
DTSTART;TZID=America/Los_Angeles:20231227T170000
DTEND;TZID=America/Los_Angeles:20231227T183000
DTSTAMP:20260419T144031
CREATED:20231201T004729Z
LAST-MODIFIED:20231201T004729Z
UID:10001465-1703696400-1703701800@elarcdecalifornia.org
SUMMARY:La importancia de cerrar el año cuidando nuestra
DESCRIPTION:Tendrá la oportunidad de hablar con un Médico y hacerle preguntas sobre “Cuidando su Salud”\nTendrá la oportunidad de hablar con un Médico y hacerle preguntas sobre “Atención médica”\n\nGrupo virtual recurrente- Todos los miércoles a las 5:00 pm.
URL:https://elarcdecalifornia.org/evento/la-importancia-de-cerrar-el-ano-cuidando-nuestra/2023-12-27/
CATEGORIES:Entrenamientos por zoom
ATTACH;FMTTYPE=image/png:https://elarcdecalifornia.org/wp-content/uploads/2023/11/Screenshot-2023-11-30-at-4.33.45 PM.png
END:VEVENT
END:VCALENDAR