BEGIN:VCALENDAR
VERSION:2.0
PRODID:-//El Arc - ECPv6.15.20//NONSGML v1.0//EN
CALSCALE:GREGORIAN
METHOD:PUBLISH
X-WR-CALNAME:El Arc
X-ORIGINAL-URL:https://elarcdecalifornia.org
X-WR-CALDESC:Eventos para El Arc
REFRESH-INTERVAL;VALUE=DURATION:PT1H
X-Robots-Tag:noindex
X-PUBLISHED-TTL:PT1H
BEGIN:VTIMEZONE
TZID:America/Los_Angeles
BEGIN:DAYLIGHT
TZOFFSETFROM:-0800
TZOFFSETTO:-0700
TZNAME:PDT
DTSTART:20220313T100000
END:DAYLIGHT
BEGIN:STANDARD
TZOFFSETFROM:-0700
TZOFFSETTO:-0800
TZNAME:PST
DTSTART:20221106T090000
END:STANDARD
BEGIN:DAYLIGHT
TZOFFSETFROM:-0800
TZOFFSETTO:-0700
TZNAME:PDT
DTSTART:20230312T100000
END:DAYLIGHT
BEGIN:STANDARD
TZOFFSETFROM:-0700
TZOFFSETTO:-0800
TZNAME:PST
DTSTART:20231105T090000
END:STANDARD
BEGIN:DAYLIGHT
TZOFFSETFROM:-0800
TZOFFSETTO:-0700
TZNAME:PDT
DTSTART:20240310T100000
END:DAYLIGHT
BEGIN:STANDARD
TZOFFSETFROM:-0700
TZOFFSETTO:-0800
TZNAME:PST
DTSTART:20241103T090000
END:STANDARD
END:VTIMEZONE
BEGIN:VEVENT
DTSTART;TZID=America/Los_Angeles:20231106T100000
DTEND;TZID=America/Los_Angeles:20231106T110000
DTSTAMP:20260419T162030
CREATED:20230907T214108Z
LAST-MODIFIED:20230907T214109Z
UID:10000255-1699264800-1699268400@elarcdecalifornia.org
SUMMARY:Entrenamientos Estatales de SCDD del año 2023
DESCRIPTION:¡Nos Vemos en ZOOM!! ¡Todos los entrenamientos usarán el mismo número de juntas y contraseña todo el año! Los entrenamientos se darán en series de temas y serán ofrecidos en español. Vea las fechas y temas correspondientes en el volante. Número de Junta: 829-8230-7774 Contraseña: 123456. Para participar por teléfono\, llame al (888) 475-4499 e ingrese el número de juntas y contraseña. Para más información: (818) 543-4636 o Sofia.Cervantes@scdd.ca.gov \nLos lunes\n10:00 AM (Hora del pacífico) \nDetalles\nRegistrarse
URL:https://elarcdecalifornia.org/evento/test-event-2/2023-11-06/
CATEGORIES:Entrenamientos por zoom
END:VEVENT
BEGIN:VEVENT
DTSTART;TZID=America/Los_Angeles:20231109T090000
DTEND;TZID=America/Los_Angeles:20231109T110000
DTSTAMP:20260419T162030
CREATED:20230830T215338Z
LAST-MODIFIED:20230907T212116Z
UID:10000188-1699520400-1699527600@elarcdecalifornia.org
SUMMARY:Tele ECHO Autismo
DESCRIPTION:¡Nuevo formato híbrido que conecta familias\, ! profesionales al cuidado del autismo con un grupo de expertos localizados en nuestro centro académico de excelencia del cuidado del autismo Todos colaboran\, todos aprenden y mejoran el cuidado de personas con autismo! ¡ECHO Autismo mueve el conocimiento\, no a los pacientes! Sin ningún costo. \nSegundo Jueves de cada mes\n9:00 AM- 11:00 AM (Hora del pacifico) \nDetalles\nRegistrarse
URL:https://elarcdecalifornia.org/evento/tele-echo-autismo/2023-11-09/
CATEGORIES:Entrenamientos por zoom
END:VEVENT
BEGIN:VEVENT
DTSTART;TZID=America/Los_Angeles:20231109T180000
DTEND;TZID=America/Los_Angeles:20231109T203000
DTSTAMP:20260419T162030
CREATED:20231105T023731Z
LAST-MODIFIED:20231105T023731Z
UID:10001448-1699552800-1699561800@elarcdecalifornia.org
SUMMARY:Unase a ASLA y SCDD para conocer la Ley Lanterman.
DESCRIPTION:La ley Lanterman es una ley de California que garantiza que las personas con discapacidades del desarrollo y sus familias tengas los mismos derechos a los servicios y apoyos que los demás californianos. Los profesionales que ayudan con servicios y apoyos deben cumplir esta ley. Para ser un facilitador Independiente efectivo debe conocer la Ley Lanterman para asegurar que sus clientes reciban los servicios tradicionales apropiados a los que tienen derecho.
URL:https://elarcdecalifornia.org/evento/unase-a-asla-y-scdd-para-conocer-la-ley-lanterman/2023-11-09/
CATEGORIES:Entrenamientos por zoom
ATTACH;FMTTYPE=image/png:https://elarcdecalifornia.org/wp-content/uploads/2023/11/LANTERMAN-ACT-FINAL.png
END:VEVENT
BEGIN:VEVENT
DTSTART;TZID=America/Los_Angeles:20231113T100000
DTEND;TZID=America/Los_Angeles:20231113T110000
DTSTAMP:20260419T162030
CREATED:20230907T214108Z
LAST-MODIFIED:20230907T214109Z
UID:10000256-1699869600-1699873200@elarcdecalifornia.org
SUMMARY:Entrenamientos Estatales de SCDD del año 2023
DESCRIPTION:¡Nos Vemos en ZOOM!! ¡Todos los entrenamientos usarán el mismo número de juntas y contraseña todo el año! Los entrenamientos se darán en series de temas y serán ofrecidos en español. Vea las fechas y temas correspondientes en el volante. Número de Junta: 829-8230-7774 Contraseña: 123456. Para participar por teléfono\, llame al (888) 475-4499 e ingrese el número de juntas y contraseña. Para más información: (818) 543-4636 o Sofia.Cervantes@scdd.ca.gov \nLos lunes\n10:00 AM (Hora del pacífico) \nDetalles\nRegistrarse
URL:https://elarcdecalifornia.org/evento/test-event-2/2023-11-13/
CATEGORIES:Entrenamientos por zoom
END:VEVENT
BEGIN:VEVENT
DTSTART;TZID=America/Los_Angeles:20231114T120000
DTEND;TZID=America/Los_Angeles:20231114T130000
DTSTAMP:20260419T162030
CREATED:20231009T200812Z
LAST-MODIFIED:20231009T200812Z
UID:10000947-1699963200-1699966800@elarcdecalifornia.org
SUMMARY:Fundamentos del IEP Preparando y Empoderando a los Padres para el IEP de sus Hijos
DESCRIPTION:Este entrenamiento mensual ayudará a aprender información básica acerca del IEP\, al igual que estrategias más avanzadas sobre los pasos que puede tomar cuando está en desacuerdo con su IEP. \n¡Los padres participantes recibirán una copia digital GRATUITA para ayudarle a crear su portafolio del IEP en casa!
URL:https://elarcdecalifornia.org/evento/fundamentos-del-iep-preparando-y-empoderando-a-los-padres-para-el-iep-de-sus-hijos/2023-11-14/
CATEGORIES:Entrenamientos por zoom
ATTACH;FMTTYPE=image/jpeg:https://elarcdecalifornia.org/wp-content/uploads/2023/10/Unknown-1.jpeg
END:VEVENT
BEGIN:VEVENT
DTSTART;TZID=America/Los_Angeles:20231116T170000
DTEND;TZID=America/Los_Angeles:20231116T190000
DTSTAMP:20260419T162030
CREATED:20230905T182607Z
LAST-MODIFIED:20231026T225430Z
UID:10000916-1700154000-1700161200@elarcdecalifornia.org
SUMMARY:Enfrentando la Intimidación
DESCRIPTION:¡Ya basta! Como enfrentar la intimidación usando leyes\, estrategias y mejores prácticas. (“anti-bullying”\, como se dice en inglés) Acompañe al Consejo Estatal sobre Discapacidades del Desarrollo (SCDD) en esta presentación centrada en las mejores prácticas y estrategias que le pueden ayudar. Todos son bienvenidos\, especialmente estudiantes y adultos con discapacidades del desarrollo\, sus familias\, escuelas y lugares de trabajo. \n{Si su hijo/a es un cliente del Centro Regional del Este la Bahía (RCEB) tenga listo el número de UCI de su hijo/a para poderse registrarse. Si no se sabe el número\, comuníquese con su coordinador de servicios del centro regional y se lo darán.}
URL:https://elarcdecalifornia.org/evento/enfrentando-la-intimidacion/
CATEGORIES:Entrenamientos por zoom
END:VEVENT
BEGIN:VEVENT
DTSTART;TZID=America/Los_Angeles:20231116T180000
DTEND;TZID=America/Los_Angeles:20231116T203000
DTSTAMP:20260419T162030
CREATED:20231105T023731Z
LAST-MODIFIED:20231105T023731Z
UID:10001449-1700157600-1700166600@elarcdecalifornia.org
SUMMARY:Unase a ASLA y SCDD para conocer la Ley Lanterman.
DESCRIPTION:La ley Lanterman es una ley de California que garantiza que las personas con discapacidades del desarrollo y sus familias tengas los mismos derechos a los servicios y apoyos que los demás californianos. Los profesionales que ayudan con servicios y apoyos deben cumplir esta ley. Para ser un facilitador Independiente efectivo debe conocer la Ley Lanterman para asegurar que sus clientes reciban los servicios tradicionales apropiados a los que tienen derecho.
URL:https://elarcdecalifornia.org/evento/unase-a-asla-y-scdd-para-conocer-la-ley-lanterman/2023-11-16/
CATEGORIES:Entrenamientos por zoom
ATTACH;FMTTYPE=image/png:https://elarcdecalifornia.org/wp-content/uploads/2023/11/LANTERMAN-ACT-FINAL.png
END:VEVENT
BEGIN:VEVENT
DTSTART;TZID=America/Los_Angeles:20231121T170000
DTEND;TZID=America/Los_Angeles:20231121T190000
DTSTAMP:20260419T162031
CREATED:20230918T145615Z
LAST-MODIFIED:20230918T145615Z
UID:10000932-1700586000-1700593200@elarcdecalifornia.org
SUMMARY:Aprenda sobre El Departamento de Rehabilitación de California DOR
DESCRIPTION:DOR trabaja en colaboración con los clientes ADULTOS del centro regional y otras partes interesadas para proporcionar servicios y apoyo que resulten en empleo\, vida independiente e igualdad para las personas con discapacidades.\nPara participar\, regístrese.
URL:https://elarcdecalifornia.org/evento/aprenda-sobre-el-departamento-de-rehabilitacion-de-california-dor/
CATEGORIES:Entrenamientos por zoom
ATTACH;FMTTYPE=image/png:https://elarcdecalifornia.org/wp-content/uploads/2023/09/Screenshot-2023-09-18-at-7.45.44-AM.png
END:VEVENT
BEGIN:VEVENT
DTSTART;TZID=America/Los_Angeles:20231127T100000
DTEND;TZID=America/Los_Angeles:20231127T110000
DTSTAMP:20260419T162031
CREATED:20230907T214108Z
LAST-MODIFIED:20230907T214109Z
UID:10000257-1701079200-1701082800@elarcdecalifornia.org
SUMMARY:Entrenamientos Estatales de SCDD del año 2023
DESCRIPTION:¡Nos Vemos en ZOOM!! ¡Todos los entrenamientos usarán el mismo número de juntas y contraseña todo el año! Los entrenamientos se darán en series de temas y serán ofrecidos en español. Vea las fechas y temas correspondientes en el volante. Número de Junta: 829-8230-7774 Contraseña: 123456. Para participar por teléfono\, llame al (888) 475-4499 e ingrese el número de juntas y contraseña. Para más información: (818) 543-4636 o Sofia.Cervantes@scdd.ca.gov \nLos lunes\n10:00 AM (Hora del pacífico) \nDetalles\nRegistrarse
URL:https://elarcdecalifornia.org/evento/test-event-2/2023-11-27/
CATEGORIES:Entrenamientos por zoom
END:VEVENT
BEGIN:VEVENT
DTSTART;TZID=America/Los_Angeles:20231128T160000
DTEND;TZID=America/Los_Angeles:20231128T173000
DTSTAMP:20260419T162031
CREATED:20231127T190102Z
LAST-MODIFIED:20231127T190102Z
UID:10001457-1701187200-1701192600@elarcdecalifornia.org
SUMMARY:De la cuna al éxito
DESCRIPTION:Criar a un pequeño con necesidades especiales está lleno de sorpresas. Puede resultar abrumador\, emocionante\, y aterrador\, todo al mismo tiempo. Si apenas tenemos tiempo para pensar en lo que sucederá con nuestros hijos mañana\, mucho menos en lo que puede estar sucediendo con ellos a medida que pasan a la edad adulta dentro de unos años. \nPero si nos tomáramos un poco de tiempo para vislumbrar el futuro\, veríamos que la preparación para la transición de nuestro pequeño a la edad adulta podría comenzar temprano al: \nAprender/entender las necesidades de nuestro pequeño \nÚnase a nosotros para ver como la preparación para la transición de nuestro pequeño a la edad adulta puede comenzar temprano.
URL:https://elarcdecalifornia.org/evento/de-la-cuna-al-exito/
CATEGORIES:Entrenamientos por zoom
ATTACH;FMTTYPE=image/png:https://elarcdecalifornia.org/wp-content/uploads/2023/10/Unknown-4.png
END:VEVENT
BEGIN:VEVENT
DTSTART;TZID=America/Los_Angeles:20231128T183000
DTEND;TZID=America/Los_Angeles:20231128T193000
DTSTAMP:20260419T162031
CREATED:20231127T191526Z
LAST-MODIFIED:20231127T191526Z
UID:10001458-1701196200-1701199800@elarcdecalifornia.org
SUMMARY:Cómo prepararse para solicitar SSI - Seguro de Ingreso Suplementario
DESCRIPTION:El SSI o Seguridad de Ingreso Suplementario es un programa federal diseñado para ayudar a personas mayores de 65 años\, a personas con ceguera o a personas con discapacidad (incluyendo niños) proporcionándoles asistencia financiera para cubrir sus necesidades básicas como comida\, ropa y vivienda. \nEn este seminario web usted aprenderá sobre: \nLa elegibilidad para el SSI \nEl proceso de solicitud \nLos registros médicos \nEl listado de Información de Deterioro \nSSI y el Trabajo \nOtros Beneficios Públicos \n¿Qué es el SSDI (Social Security Disability Insurance)?
URL:https://elarcdecalifornia.org/evento/como-prepararse-para-solicitar-ssi-seguro-de-ingreso-suplementario/
CATEGORIES:Entrenamientos por zoom
ATTACH;FMTTYPE=image/png:https://elarcdecalifornia.org/wp-content/uploads/2023/10/Unknown-1-1.png
END:VEVENT
BEGIN:VEVENT
DTSTART;TZID=America/Los_Angeles:20231129T100000
DTEND;TZID=America/Los_Angeles:20231129T113000
DTSTAMP:20260419T162031
CREATED:20231127T192538Z
LAST-MODIFIED:20231127T221210Z
UID:10001459-1701252000-1701257400@elarcdecalifornia.org
SUMMARY:El Futuro es Ahora: Diseñando un Plan de Apoyo para su Hijo Adulto o Familiar
DESCRIPTION:Futuros y Esperanza: Serie de clases de seis semanas que comienza el miércoles 29 de noviembre \nFuturos y Esperanza: Preparación para el cuidado de su hijo adulto o familiar. Este curso presencial de seis semanas ofrece un proceso paso a paso para ayudarle a diseñar un plan para el cuidado futuro de su hijo adulto. Impartido por instructores capacitados\, asegurando una experiencia de aprendizaje de apoyo. Esta clase es en español. \nContacté si tiene preguntas \nSamantha Thalken \nCaring Futures presented by The Arc of California \n(916) 905-5664 \nsamantha@thearcca.org
URL:https://elarcdecalifornia.org/evento/el-futuro-es-ahora-disenando-un-plan-de-apoyo-para-su-hijo-adulto-o-familiar/
CATEGORIES:Entrenamientos por zoom
ATTACH;FMTTYPE=image/png:https://elarcdecalifornia.org/wp-content/uploads/2023/11/Unknown.png
END:VEVENT
BEGIN:VEVENT
DTSTART;TZID=America/Los_Angeles:20231129T170000
DTEND;TZID=America/Los_Angeles:20231129T183000
DTSTAMP:20260419T162031
CREATED:20231122T210553Z
LAST-MODIFIED:20231122T211351Z
UID:10001455-1701277200-1701282600@elarcdecalifornia.org
SUMMARY:Tips para cuidar su dinero y poder ahorrar durante las fiestas de fin de año
DESCRIPTION:DOMINA LOS GASTOS NAVIDEÑOS \n  \nMeeting ID:     872 6117 5961 \nPassword:       creo
URL:https://elarcdecalifornia.org/evento/tips-para-cuidar-su-dinero-y-poder-ahorrar-durante-las-fiestas-de-fin-de-ano/
CATEGORIES:Entrenamientos por zoom
ATTACH;FMTTYPE=application/pdf:https://elarcdecalifornia.org/wp-content/uploads/2023/11/CREO-Platica-11292023.pdf
END:VEVENT
BEGIN:VEVENT
DTSTART;TZID=America/Los_Angeles:20231129T170000
DTEND;TZID=America/Los_Angeles:20231129T190000
DTSTAMP:20260419T162031
CREATED:20231127T221539Z
LAST-MODIFIED:20231127T221641Z
UID:10001460-1701277200-1701284400@elarcdecalifornia.org
SUMMARY:Pubertad\,Sexualidad y Discapacidad:Conociendo y respetando nuestro cuerpo.
DESCRIPTION:En esta sesión revisaremos cómo las estrategias de ABA y otras estrategias pueden apoyar a los padres a manejar los comportamientos más comunes de la transición de la niñez a la adolescencia\, incluyendo la sexualidad. Esta sesión combina lo que revisamos en las anteriores sesiones con el propósito de equipar a los padres con algo de conocimiento sobre la sexualidad y la discapacidad. \nEste es un evento de Connections California\, un proyecto de Parents Helping Parents – Silicon Valley en colaboración de Congreso Familiar. Sus datos de registro serán recopilados por Parents Helping Parents y Congreso Familiar. Todas las agencias toman en serio la privacidad y la confidencialidad
URL:https://elarcdecalifornia.org/evento/pubertadsexualidad-y-discapacidadconociendo-y-respetando-nuestro-cuerpo/
CATEGORIES:Entrenamientos por zoom
ATTACH;FMTTYPE=image/png:https://elarcdecalifornia.org/wp-content/uploads/2023/10/Unknown-1-1.png
END:VEVENT
BEGIN:VEVENT
DTSTART;TZID=America/Los_Angeles:20231130T170000
DTEND;TZID=America/Los_Angeles:20231130T190000
DTSTAMP:20260419T162031
CREATED:20231127T222204Z
LAST-MODIFIED:20231127T222228Z
UID:10001461-1701363600-1701370800@elarcdecalifornia.org
SUMMARY:Lo Básico de CalABLE
DESCRIPTION:Lo Básico de CalABLE CalABLE es un programa de ahorro e inversión que permite a las personas con una discapacidad ahorrar e invertir sin perder la elegibilidad para ciertos programas de beneficios públicos como MediCal y SSI. Las ganancias en una cuenta CalABLE no están sujetas al impuesto sobre la renta federal o estatal de California\, siempre y cuando el dinero se use para Gastos de Discapacidad Calificados. \n  \n{Si su hijo/a es un cliente del Centro Regional del Este la Bahía (RCEB) tenga listo el número de UCI de su hijo/a para poderse registrarse. Si no se sabe el número\, comuníquese con su coordinador de servicios del centro regional y se lo darán.}
URL:https://elarcdecalifornia.org/evento/lo-basico-de-calable-2/
CATEGORIES:Entrenamientos por zoom
ATTACH;FMTTYPE=image/png:https://elarcdecalifornia.org/wp-content/uploads/2023/11/calable-flyer.png
END:VEVENT
BEGIN:VEVENT
DTSTART;TZID=America/Los_Angeles:20231130T180000
DTEND;TZID=America/Los_Angeles:20231130T203000
DTSTAMP:20260419T162031
CREATED:20231105T023731Z
LAST-MODIFIED:20231105T023731Z
UID:10001450-1701367200-1701376200@elarcdecalifornia.org
SUMMARY:Unase a ASLA y SCDD para conocer la Ley Lanterman.
DESCRIPTION:La ley Lanterman es una ley de California que garantiza que las personas con discapacidades del desarrollo y sus familias tengas los mismos derechos a los servicios y apoyos que los demás californianos. Los profesionales que ayudan con servicios y apoyos deben cumplir esta ley. Para ser un facilitador Independiente efectivo debe conocer la Ley Lanterman para asegurar que sus clientes reciban los servicios tradicionales apropiados a los que tienen derecho.
URL:https://elarcdecalifornia.org/evento/unase-a-asla-y-scdd-para-conocer-la-ley-lanterman/2023-11-30/
CATEGORIES:Entrenamientos por zoom
ATTACH;FMTTYPE=image/png:https://elarcdecalifornia.org/wp-content/uploads/2023/11/LANTERMAN-ACT-FINAL.png
END:VEVENT
END:VCALENDAR