BEGIN:VCALENDAR
VERSION:2.0
PRODID:-//El Arc - ECPv6.15.20//NONSGML v1.0//EN
CALSCALE:GREGORIAN
METHOD:PUBLISH
X-ORIGINAL-URL:https://elarcdecalifornia.org
X-WR-CALDESC:Eventos para El Arc
REFRESH-INTERVAL;VALUE=DURATION:PT1H
X-Robots-Tag:noindex
X-PUBLISHED-TTL:PT1H
BEGIN:VTIMEZONE
TZID:America/Los_Angeles
BEGIN:DAYLIGHT
TZOFFSETFROM:-0800
TZOFFSETTO:-0700
TZNAME:PDT
DTSTART:20240310T100000
END:DAYLIGHT
BEGIN:STANDARD
TZOFFSETFROM:-0700
TZOFFSETTO:-0800
TZNAME:PST
DTSTART:20241103T090000
END:STANDARD
BEGIN:DAYLIGHT
TZOFFSETFROM:-0800
TZOFFSETTO:-0700
TZNAME:PDT
DTSTART:20250309T100000
END:DAYLIGHT
BEGIN:STANDARD
TZOFFSETFROM:-0700
TZOFFSETTO:-0800
TZNAME:PST
DTSTART:20251102T090000
END:STANDARD
BEGIN:DAYLIGHT
TZOFFSETFROM:-0800
TZOFFSETTO:-0700
TZNAME:PDT
DTSTART:20260308T100000
END:DAYLIGHT
BEGIN:STANDARD
TZOFFSETFROM:-0700
TZOFFSETTO:-0800
TZNAME:PST
DTSTART:20261101T090000
END:STANDARD
END:VTIMEZONE
BEGIN:VEVENT
DTSTART;TZID=America/Los_Angeles:20250912T100000
DTEND;TZID=America/Los_Angeles:20250912T120000
DTSTAMP:20260419T161340
CREATED:20250905T155107Z
LAST-MODIFIED:20250905T155255Z
UID:10003163-1757671200-1757678400@elarcdecalifornia.org
SUMMARY:Abogacía y Acción: Serie Estatal de Entrenamiento Legislativo en Español
DESCRIPTION:[vc_row][vc_column][vc_column_text css=””]¡Inscríbase a nuestra serie gratuita de entrenamientos virtuales! Esta academia de cuatro sesiones está diseñada para fortalecer a líderes comunitarios y defensores de personas con discapacidades. Aprenderá sobre cómo funciona el gobierno\, cómo contar su historia\, y cómo movilizarse por un cambio justo en California. \n5\, 12\, 19 y 26 de Septiembre 2025 \nRegistrarse\n[/vc_column_text][/vc_column][/vc_row][vc_row][vc_column][vc_single_image image=”3675″ img_size=”full” alignment=”center” css=””][/vc_column][/vc_row]
URL:https://elarcdecalifornia.org/evento/abogacia-y-accion-serie-estatal-de-entrenamiento-legislativo-en-espanol/2025-09-12/
END:VEVENT
END:VCALENDAR