BEGIN:VCALENDAR
VERSION:2.0
PRODID:-//El Arc - ECPv6.15.20//NONSGML v1.0//EN
CALSCALE:GREGORIAN
METHOD:PUBLISH
X-WR-CALNAME:El Arc
X-ORIGINAL-URL:https://elarcdecalifornia.org
X-WR-CALDESC:Eventos para El Arc
REFRESH-INTERVAL;VALUE=DURATION:PT1H
X-Robots-Tag:noindex
X-PUBLISHED-TTL:PT1H
BEGIN:VTIMEZONE
TZID:America/Los_Angeles
BEGIN:DAYLIGHT
TZOFFSETFROM:-0800
TZOFFSETTO:-0700
TZNAME:PDT
DTSTART:20230312T100000
END:DAYLIGHT
BEGIN:STANDARD
TZOFFSETFROM:-0700
TZOFFSETTO:-0800
TZNAME:PST
DTSTART:20231105T090000
END:STANDARD
BEGIN:DAYLIGHT
TZOFFSETFROM:-0800
TZOFFSETTO:-0700
TZNAME:PDT
DTSTART:20240310T100000
END:DAYLIGHT
BEGIN:STANDARD
TZOFFSETFROM:-0700
TZOFFSETTO:-0800
TZNAME:PST
DTSTART:20241103T090000
END:STANDARD
BEGIN:DAYLIGHT
TZOFFSETFROM:-0800
TZOFFSETTO:-0700
TZNAME:PDT
DTSTART:20250309T100000
END:DAYLIGHT
BEGIN:STANDARD
TZOFFSETFROM:-0700
TZOFFSETTO:-0800
TZNAME:PST
DTSTART:20251102T090000
END:STANDARD
END:VTIMEZONE
BEGIN:VEVENT
DTSTART;TZID=America/Los_Angeles:20241029T100000
DTEND;TZID=America/Los_Angeles:20241029T120000
DTSTAMP:20260420T104404
CREATED:20241023T161753Z
LAST-MODIFIED:20241023T161753Z
UID:10003158-1730196000-1730203200@elarcdecalifornia.org
SUMMARY:Cómo Clientes del Centro Regional Pueden Conseguir y Mantener un Trabajo
DESCRIPTION:Encontrar y mantener un empleo significativo es importante para la independencia económica\, la autoestima\, y el desarrollo de habilidades valiosas. En honor a octubre\, como el Mes Nacional del Empleo de Personas con Discapacidad\, únase a la Oficina de Defensa de los Derechos del Cliente (OCRA) para un seminario web informativo para personas con discapacidades intelectuales y del desarrollo.
URL:https://elarcdecalifornia.org/evento/como-clientes-del-centro-regional-pueden-conseguir-y-mantener-un-trabajo/
CATEGORIES:Entrenamientos por zoom
ATTACH;FMTTYPE=image/png:https://elarcdecalifornia.org/wp-content/uploads/2024/10/spanish-social-media-graphics.png
END:VEVENT
END:VCALENDAR